BEGIN:VCALENDAR
VERSION:2.0
PRODID:-//La Boutique en ligne Centre Inffo - ECPv5.1.4//NONSGML v1.0//EN
CALSCALE:GREGORIAN
METHOD:PUBLISH
X-WR-CALNAME:La Boutique en ligne Centre Inffo
X-ORIGINAL-URL:https://boutique.centre-inffo.fr
X-WR-CALDESC:Évènements pour La Boutique en ligne Centre Inffo
BEGIN:VTIMEZONE
TZID:Europe/Paris
BEGIN:DAYLIGHT
TZOFFSETFROM:+0100
TZOFFSETTO:+0200
TZNAME:CEST
DTSTART:20230326T010000
END:DAYLIGHT
BEGIN:STANDARD
TZOFFSETFROM:+0200
TZOFFSETTO:+0100
TZNAME:CET
DTSTART:20231029T010000
END:STANDARD
END:VTIMEZONE
BEGIN:VEVENT
DTSTART;TZID=Europe/Paris:20230918T090000
DTEND;TZID=Europe/Paris:20230919T170000
DTSTAMP:20260421T201740
CREATED:20221104T170412Z
LAST-MODIFIED:20221109T142716Z
UID:355557-1695027600-1695142800@boutique.centre-inffo.fr
SUMMARY:Obtenir la certification Qualiopi
DESCRIPTION:Téléchargez le programme\n\nDUREE : 14 heures\, soit 2 jours\nOBJECTIFS DE FORMATION :\n\nSe préparer\, au plus près des exigences\, aux prochaines échéances de mise en conformité\nDisposer de repères-clés pour mettre en œuvre une stratégie qualité\n\n
URL:https://boutique.centre-inffo.fr/evenement/obtenir-la-certification-qualiopi-2/
LOCATION:4 avenue du stade de france\, Saint Denis\, 93210\, France
CATEGORIES:Présentiel,Qualité en formation,Sessions de formation,Toutes nos sessions
ORGANIZER;CN="Centre%20Inffo":MAILTO:inscription.event@centre-inffo.fr
END:VEVENT
END:VCALENDAR