BEGIN:VCALENDAR
VERSION:2.0
PRODID:-//La Boutique en ligne Centre Inffo - ECPv5.1.4//NONSGML v1.0//EN
CALSCALE:GREGORIAN
METHOD:PUBLISH
X-WR-CALNAME:La Boutique en ligne Centre Inffo
X-ORIGINAL-URL:https://boutique.centre-inffo.fr
X-WR-CALDESC:Évènements pour La Boutique en ligne Centre Inffo
BEGIN:VTIMEZONE
TZID:Europe/Paris
BEGIN:DAYLIGHT
TZOFFSETFROM:+0100
TZOFFSETTO:+0200
TZNAME:CEST
DTSTART:20260329T010000
END:DAYLIGHT
BEGIN:STANDARD
TZOFFSETFROM:+0200
TZOFFSETTO:+0100
TZNAME:CET
DTSTART:20261025T010000
END:STANDARD
END:VTIMEZONE
BEGIN:VEVENT
DTSTART;TZID=Europe/Paris:20261012T090000
DTEND;TZID=Europe/Paris:20261013T170000
DTSTAMP:20260423T223759
CREATED:20251024T143924Z
LAST-MODIFIED:20260420T122633Z
UID:367658-1791795600-1791910800@boutique.centre-inffo.fr
SUMMARY:Concevoir et évaluer une formation pour adultes
DESCRIPTION:Téléchargez le programme \nDUREE : 14 heures\, soit 2 jours\nMODALITE : en présentiel\nLIEU : Centre Inffo – 4\, avenue du Stade de France – 93210 Saint-Denis\nOBJECTIFS :\n\nIdentifier les différents ingrédients nécessaires pour la conception d’une action de formation\nRepérer les points forts et les limites de l’Intelligence Artificielle dans la conception d’une action de formation\nConnaître les caractéristiques des évaluations des acquis des apprenants\n\nPREREQUIS :\nAucun. Apporter un projet de formation réelle qui servira de base durant cette formation. \nPOURSUIVEZ VOTRE PARCOURS en suivant également la formation : « Animer une formation pour adultes »\n
URL:https://boutique.centre-inffo.fr/evenement/concevoir-et-evaluer-une-formation-pour-adultes-4/
CATEGORIES:Anticiper les évolutions à venir et innover dans ses pratiques,Digitalisation de l’offre,Événements,Ingénierie pédagogique,Multimodalité,Présentiel,Qualité en formation,Réglementation des organismes de formation,Sessions de formation,Toutes nos sessions
ORGANIZER;CN="Centre%20Inffo":MAILTO:inscription.event@centre-inffo.fr
END:VEVENT
END:VCALENDAR