BEGIN:VCALENDAR
VERSION:2.0
PRODID:-//La Boutique en ligne Centre Inffo - ECPv5.1.4//NONSGML v1.0//EN
CALSCALE:GREGORIAN
METHOD:PUBLISH
X-WR-CALNAME:La Boutique en ligne Centre Inffo
X-ORIGINAL-URL:https://boutique.centre-inffo.fr
X-WR-CALDESC:Évènements pour La Boutique en ligne Centre Inffo
BEGIN:VTIMEZONE
TZID:Europe/Paris
BEGIN:DAYLIGHT
TZOFFSETFROM:+0100
TZOFFSETTO:+0200
TZNAME:CEST
DTSTART:20260329T010000
END:DAYLIGHT
BEGIN:STANDARD
TZOFFSETFROM:+0200
TZOFFSETTO:+0100
TZNAME:CET
DTSTART:20261025T010000
END:STANDARD
END:VTIMEZONE
BEGIN:VEVENT
DTSTART;TZID=Europe/Paris:20261117T090000
DTEND;TZID=Europe/Paris:20261119T123000
DTSTAMP:20260421T163217
CREATED:20251024T135553Z
LAST-MODIFIED:20260420T122203Z
UID:367642-1794906000-1795091400@boutique.centre-inffo.fr
SUMMARY:Qualiopi : se préparer aux audits de surveillance et de renouvellement
DESCRIPTION:Téléchargez le programme \nDUREE : 10 heures 30\, réparties sur 2 jours\nDATES : les 17 et 19 novembre 2026\nMODALITE : mixte\nJOUR 1 : en présentiel\nJOUR 2 : en distanciel \nOBJECTIFS :\n\nSe préparer aux attentes spécifiques des audits de surveillance et de renouvellement\nIdentifier les dernières exigences liées à la certification Qualiopi\nTraiter les écarts constatés ou les possibles dysfonctionnements\nIdentifier les pistes d’action pour la gestion du suivi qualité\n\nPREREQUIS :\nAvoir déjà participé à la préparation d’un audit initial Qualiopi au sein de sa propre structure ou de tout autre organisme concourant au développement des compétences \n
URL:https://boutique.centre-inffo.fr/evenement/qualiopi-se-preparer-aux-audits-de-surveillance-et-de-renouvellement-12/
CATEGORIES:Événements,Présentiel,Qualité en formation,Réformes,Réglementation des organismes de formation,Sécuriser le nouveau cadre juridique,Sessions de formation,Toutes nos sessions
ORGANIZER;CN="Centre%20Inffo":MAILTO:inscription.event@centre-inffo.fr
END:VEVENT
BEGIN:VEVENT
DTSTART;TZID=Europe/Paris:20261118T090000
DTEND;TZID=Europe/Paris:20261119T170000
DTSTAMP:20260421T163217
CREATED:20251023T172826Z
LAST-MODIFIED:20260420T120711Z
UID:367587-1794992400-1795107600@boutique.centre-inffo.fr
SUMMARY:Cartographier la nouvelle ingénierie financière en formation
DESCRIPTION:Téléchargez le programme \nDUREE : 14 heures\, soit 2 jours\nMODALITE : en présentiel\nLIEU : Centre Inffo – 4\, avenue du Stade de France – 93210 Saint-Denis\nOBJECTIFS :\n\nIdentifier les sources de financement de la formation professionnelle\nQualifier un projet de formation en vue de trouver le bon financement\nSavoir chiffrer un projet de formation en tenant compte des contraintes des financeurs\n\nPREREQUIS :\nExercer une fonction dans le secteur de la formation professionnelle\nou avoir suivi la formation « Se repérer dans la formation professionnelle : acteurs et mesures » \n
URL:https://boutique.centre-inffo.fr/evenement/cartographier-la-nouvelle-ingenierie-financiere-en-formation-33/
CATEGORIES:Événements,Ingénierie financière,Présentiel,Réformes,Réglementation générale,Réglementation OF,Sécuriser le nouveau cadre juridique,Sessions de formation,Toutes nos sessions
ORGANIZER;CN="Centre%20Inffo":MAILTO:inscription.event@centre-inffo.fr
END:VEVENT
END:VCALENDAR