BEGIN:VCALENDAR
VERSION:2.0
PRODID:-//La Boutique en ligne Centre Inffo - ECPv5.1.4//NONSGML v1.0//EN
CALSCALE:GREGORIAN
METHOD:PUBLISH
X-WR-CALNAME:La Boutique en ligne Centre Inffo
X-ORIGINAL-URL:https://boutique.centre-inffo.fr
X-WR-CALDESC:Évènements pour La Boutique en ligne Centre Inffo
BEGIN:VTIMEZONE
TZID:Europe/Paris
BEGIN:DAYLIGHT
TZOFFSETFROM:+0100
TZOFFSETTO:+0200
TZNAME:CEST
DTSTART:20260329T010000
END:DAYLIGHT
BEGIN:STANDARD
TZOFFSETFROM:+0200
TZOFFSETTO:+0100
TZNAME:CET
DTSTART:20261025T010000
END:STANDARD
END:VTIMEZONE
BEGIN:VEVENT
DTSTART;TZID=Europe/Paris:20261130T090000
DTEND;TZID=Europe/Paris:20261204T123000
DTSTAMP:20260424T122355
CREATED:20251023T162122Z
LAST-MODIFIED:20260420T120134Z
UID:367569-1796029200-1796387400@boutique.centre-inffo.fr
SUMMARY:Se repérer dans la formation professionnelle : acteurs et mesures
DESCRIPTION:Téléchargez le programme \nDUREE : 21 heures\, réparties sur 5 jours\n\nMODALITE : en distanciel\n\nOBJECTIFS DE FORMATION :\n\nAppréhender les principes de la réglementation de la formation professionnelle\nDifférencier les rôles des acteurs de la formation\, de l’apprentissage et de l’orientation et leurs\nmodalités d’intervention\nSe repérer parmi les différents dispositifs d’accès à la formation\n\nPREREQUIS : aucun\n
URL:https://boutique.centre-inffo.fr/evenement/se-reperer-dans-la-formation-professionnelle-acteurs-et-mesures-46/
CATEGORIES:A distance,Événements,Réglementation générale,Sécuriser le nouveau cadre juridique,Sessions de formation,Toutes nos sessions
ORGANIZER;CN="Centre%20Inffo":MAILTO:inscription.event@centre-inffo.fr
END:VEVENT
END:VCALENDAR