BEGIN:VCALENDAR
VERSION:2.0
PRODID:-//La Boutique en ligne Centre Inffo - ECPv5.1.4//NONSGML v1.0//EN
CALSCALE:GREGORIAN
METHOD:PUBLISH
X-WR-CALNAME:La Boutique en ligne Centre Inffo
X-ORIGINAL-URL:https://boutique.centre-inffo.fr
X-WR-CALDESC:Évènements pour La Boutique en ligne Centre Inffo
BEGIN:VTIMEZONE
TZID:Europe/Paris
BEGIN:DAYLIGHT
TZOFFSETFROM:+0100
TZOFFSETTO:+0200
TZNAME:CEST
DTSTART:20260329T010000
END:DAYLIGHT
BEGIN:STANDARD
TZOFFSETFROM:+0200
TZOFFSETTO:+0100
TZNAME:CET
DTSTART:20261025T010000
END:STANDARD
END:VTIMEZONE
BEGIN:VEVENT
DTSTART;TZID=Europe/Paris:20260601T090000
DTEND;TZID=Europe/Paris:20260907T123000
DTSTAMP:20260424T141823
CREATED:20251024T131321Z
LAST-MODIFIED:20260420T121704Z
UID:367627-1780304400-1788784200@boutique.centre-inffo.fr
SUMMARY:Enregistrement RNCP/RS - Elaborer les référentiels et structurer en blocs de compétences
DESCRIPTION:Téléchargez le programme \nModule de spécialisation 2\nDUREE : 21 heures\, réparties sur 3 mois\nDATES : les 1er-2-3 juin\, le 2 juillet et le 7 septembre 2026\nMODALITE : en distanciel\nOBJECTIFS DE FORMATION :\n\nRédiger des référentiels d’activités\, de compétences et d’évaluation en respectant les règles de l’écriture en compétences\nStructurer une certification RNCP en blocs de compétences\n\nPREREQUIS :\n1 – Avoir suivi la formation « Rendre votre offre de formation certifiante : créer une certification ou nouer un partenariat ? » OU satisfaire au test de connaissances correspondant ;\n2 – Avoir déjà participé à un projet de certification OU avoir un projet en cours : premier enregistrement\, renouvellement (pour son propre compte ou le compte d’un tiers). \nAvant de vous inscrire\, vérifiez votre profil : \n\n1er cas : vous n’avez pas de projet en cours > dans ce cas\, les modules de spécialisation ne correspondent pas à votre profil > contactez notre équipe commerciale (contact.formation@centre-inffo.fr) qui vous dirigera vers une formation plus adaptée à votre situation.\n2ème cas : vous avez un projet en cours et vous avez déjà suivi à Centre Inffo une formation de base sur l’enregistrement des certifications aux répertoires de France Compétences > vous pouvez vous inscrire immédiatement à ce module de spécialisation.\n3ème cas : vous avez un projet en cours\, mais vous n’avez suivi aucune formation de base à Centre Inffo >\nTestez vos connaissances !\n> si votre score est supérieur ou égal à 24/40\, vous pouvez tout de suite vous inscrire à l’ensemble des modules de spécialisation que nous proposons ;\n> si votre score est inférieur à 24/40\, nous vous déconseillons de suivre les modules de spécialisation dans l’immédiat.\nContactez le service commercial (contact.formation@centre-inffo.fr) qui vous dirigera vers une formation plus en adéquation avec votre profil\, notamment notre module de base « Rendre certifiante votre offre de formation : créer une certification ou nouer un partenariat ? ».\n\n
URL:https://boutique.centre-inffo.fr/evenement/enregistrement-rncp-rs-elaborer-les-referentiels-et-structurer-en-blocs-de-competences-10/
CATEGORIES:A distance,Développer son offre de formation,Événements,Ingénierie de certification,Réglementation des organismes de formation,Sécuriser le nouveau cadre juridique,Sessions de formation,Stratégies & business model,Toutes nos sessions
ORGANIZER;CN="Centre%20Inffo":MAILTO:inscription.event@centre-inffo.fr
END:VEVENT
BEGIN:VEVENT
DTSTART;TZID=Europe/Paris:20260609T090000
DTEND;TZID=Europe/Paris:20260610T170000
DTSTAMP:20260424T141823
CREATED:20251023T130751Z
LAST-MODIFIED:20260306T173632Z
UID:367553-1780995600-1781110800@boutique.centre-inffo.fr
SUMMARY:Titres professionnels du ministère du Travail : sécuriser l'agrément et l'habilitation
DESCRIPTION:Téléchargez le programme \nDUREE : 14 heures\, sur 2 jours\n\nMODALITE : en présentiel\nLIEU : Centre Inffo – 4\, avenue du Stade de France – 93200 SAINT-DENIS LA PLAINE\nOBJECTIFS :\n\nComprendre la différence entre agrément et habilitation et leurs implications pratiques\nSécuriser les démarches de demande et de maintien d’agrément / habilitation\nIdentifier les rôles et responsabilités des organismes de formation\, des centres d’examen et des partenaires\nPrévenir les risques de non-conformité et de retrait d’autorisation\n\nPREREQUIS :\nExercer au sein d’une structure concourant au développement des compétences. \n
URL:https://boutique.centre-inffo.fr/evenement/titres-professionnels-du-ministere-du-travail-securiser-lagrement-et-lhabilitation-2/
CATEGORIES:Événements,Ingénierie de certification,Présentiel,Réglementation des organismes de formation,Sécuriser le nouveau cadre juridique,Sessions de formation,Toutes nos sessions
ORGANIZER;CN="Centre%20Inffo":MAILTO:inscription.event@centre-inffo.fr
END:VEVENT
BEGIN:VEVENT
DTSTART;TZID=Europe/Paris:20260610T090000
DTEND;TZID=Europe/Paris:20260612T123000
DTSTAMP:20260424T141823
CREATED:20251023T100756Z
LAST-MODIFIED:20260305T134410Z
UID:367535-1781082000-1781267400@boutique.centre-inffo.fr
SUMMARY:Sécuriser le contrat d'apprentissage : conclusion\, rémunération\, durée\, ruptures\, aides financières...
DESCRIPTION:Téléchargez le programme \nDUREE : 14 heures\, réparties sur 3 jours\nMODALITE : en distanciel\n\nOBJECTIFS :\n\nSavoir renseigner le formulaire Cerfa en appliquant les règles liées à la conclusion et aux modifications du contrat d’apprentissage\nFixer le bon niveau de rémunération de l’apprenti et solliciter les aides financières\nAnticiper les aléas liés à l’exécution du contrat d’apprentissage et gérer en toute sécurité la rupture anticipée\nIdentifier les aides financières pour les entreprises et les apprentis\nAppliquer les règles particulières relatives aux apprentis ultramarins\, étrangers\, mineurs\, travaux dangereux…\n\nPREREQUIS :\nExercer une fonction dans le secteur de la formation professionnelle\nou avoir suivi la formation « Se repérer dans la formation professionnelle : acteurs et mesures » \n
URL:https://boutique.centre-inffo.fr/evenement/securiser-le-contrat-dapprentissage-conclusion-remuneration-duree-ruptures-aides-financieres-19/
CATEGORIES:A distance,Apprentissage,Événements,Ingénierie financière,Réglementation des organismes de formation,Sécuriser le nouveau cadre juridique,Sessions de formation,Toutes nos sessions
ORGANIZER;CN="Centre%20Inffo":MAILTO:inscription.event@centre-inffo.fr
END:VEVENT
END:VCALENDAR