BEGIN:VCALENDAR
VERSION:2.0
PRODID:-//La Boutique en ligne Centre Inffo - ECPv5.1.4//NONSGML v1.0//EN
CALSCALE:GREGORIAN
METHOD:PUBLISH
X-WR-CALNAME:La Boutique en ligne Centre Inffo
X-ORIGINAL-URL:https://boutique.centre-inffo.fr
X-WR-CALDESC:Évènements pour La Boutique en ligne Centre Inffo
BEGIN:VTIMEZONE
TZID:Europe/Paris
BEGIN:DAYLIGHT
TZOFFSETFROM:+0100
TZOFFSETTO:+0200
TZNAME:CEST
DTSTART:20230326T010000
END:DAYLIGHT
BEGIN:STANDARD
TZOFFSETFROM:+0200
TZOFFSETTO:+0100
TZNAME:CET
DTSTART:20231029T010000
END:STANDARD
END:VTIMEZONE
BEGIN:VEVENT
DTSTART;TZID=Europe/Paris:20230119T090000
DTEND;TZID=Europe/Paris:20230202T160000
DTSTAMP:20260425T221018
CREATED:20221021T151800Z
LAST-MODIFIED:20230113T111126Z
UID:355231-1674118800-1675353600@boutique.centre-inffo.fr
SUMMARY:Faire vivre sa certification Qualiopi et se préparer aux prochains audits
DESCRIPTION:Téléchargez le programme \nDUREE : 14 heures\, réparties sur 2 semaines\nOBJECTIFS DE FORMATION :\n\nSe préparer aux audits de contrôle\nIdentifier les leviers d’une démarche qualité pérenne\n\nPREREQUIS :\n\nDétenir la certification Qualiopi\n\n
URL:https://boutique.centre-inffo.fr/evenement/faire-vivre-sa-certification-qualiopi-et-se-preparer-aux-prochains-audits-5/
LOCATION:4 avenue du stade de france\, Saint Denis\, 93210\, France
CATEGORIES:A distance,Qualité en formation,Sessions de formation,Toutes nos sessions
ORGANIZER;CN="Centre%20Inffo":MAILTO:inscription.event@centre-inffo.fr
END:VEVENT
BEGIN:VEVENT
DTSTART;TZID=Europe/Paris:20230201T090000
DTEND;TZID=Europe/Paris:20230203T170000
DTSTAMP:20260425T221018
CREATED:20221019T134048Z
LAST-MODIFIED:20221031T081317Z
UID:355237-1675242000-1675443600@boutique.centre-inffo.fr
SUMMARY:Se repérer dans la formation professionnelle : acteurs et mesures
DESCRIPTION:Téléchargez le programme \nDUREE : 21 heures\, soit 3 jours\nOBJECTIFS DE FORMATION :\n\nAppréhender les principes de la réglementation de la formation professionnelle\nDifférencier les rôles des acteurs de la formation\, de l’apprentissage et de l’orientation et leurs\nmodalités d’intervention\nSe repérer parmi les différents dispositifs d’accès à la formation\n\n
URL:https://boutique.centre-inffo.fr/evenement/se-reperer-dans-la-formation-professionnelle-acteurs-et-mesures-16/
LOCATION:4 avenue du stade de france\, Saint Denis\, 93210\, France
CATEGORIES:Présentiel,Réglementation générale,Sessions de formation,Toutes nos sessions
ORGANIZER;CN="Centre%20Inffo":MAILTO:inscription.event@centre-inffo.fr
END:VEVENT
END:VCALENDAR