BEGIN:VCALENDAR
VERSION:2.0
PRODID:-//La Boutique en ligne Centre Inffo - ECPv5.1.4//NONSGML v1.0//EN
CALSCALE:GREGORIAN
METHOD:PUBLISH
X-WR-CALNAME:La Boutique en ligne Centre Inffo
X-ORIGINAL-URL:https://boutique.centre-inffo.fr
X-WR-CALDESC:Évènements pour La Boutique en ligne Centre Inffo
BEGIN:VTIMEZONE
TZID:Europe/Paris
BEGIN:DAYLIGHT
TZOFFSETFROM:+0100
TZOFFSETTO:+0200
TZNAME:CEST
DTSTART:20230326T010000
END:DAYLIGHT
BEGIN:STANDARD
TZOFFSETFROM:+0200
TZOFFSETTO:+0100
TZNAME:CET
DTSTART:20231029T010000
END:STANDARD
END:VTIMEZONE
BEGIN:VEVENT
DTSTART;TZID=Europe/Paris:20230320T090000
DTEND;TZID=Europe/Paris:20230322T123000
DTSTAMP:20260425T113809
CREATED:20221019T151630Z
LAST-MODIFIED:20221031T080411Z
UID:355271-1679302800-1679488200@boutique.centre-inffo.fr
SUMMARY:CPF : sécuriser le référencement\, la vente et la réalisation de vos formations
DESCRIPTION:Téléchargez le programme détaillé \nDUREE : 14 heures réparties sur 3 jours\nOBJECTIFS DE FORMATION :\n  \n\nMaîtriser les conditions de référencement en tenant compte des évolutions techniques de la plateforme\nConnaître les règles en matière de démarchage et de publicité\nGérer les dossiers de formation et la facturation\nPrévenir le contrôle et les contentieux\n\n  \n
URL:https://boutique.centre-inffo.fr/evenement/cpf-securiser-le-referencement-la-vente-et-la-realisation-de-vos-formations/
LOCATION:4 avenue du stade de france\, Saint Denis\, 93210\, France
CATEGORIES:A distance,Ingénierie financière,Sessions de formation,Toutes nos sessions
ORGANIZER;CN="Centre%20Inffo":MAILTO:inscription.event@centre-inffo.fr
END:VEVENT
BEGIN:VEVENT
DTSTART;TZID=Europe/Paris:20230320T090000
DTEND;TZID=Europe/Paris:20230321T170000
DTSTAMP:20260425T113809
CREATED:20221024T155654Z
LAST-MODIFIED:20221031T080441Z
UID:355308-1679302800-1679418000@boutique.centre-inffo.fr
SUMMARY:Modéliser l'évolution stratégique et commerciale de son activité formation
DESCRIPTION:Téléchargez le programme \nDUREE : 14 heures\, soit 2 jours\nOBJECTIFS DE FORMATION :\n\nMettre en perspective les évolutions de l’environnement de la formation professionnelle et celles des\nmodèles d’affaires\nExploiter la méthode Canvas pour formaliser une nouvelle offre de services\nConstruire des scénarii d’évolution de son business model\n\nPREREQUIS :\n\nAvoir un projet de développement\, refonte ou changement d’activité au sein de son organisation\n\n
URL:https://boutique.centre-inffo.fr/evenement/modeliser-levolution-strategique-et-commerciale-de-son-activite-formation/
LOCATION:4 avenue du stade de france\, Saint Denis\, 93210\, France
CATEGORIES:Présentiel,Sessions de formation,Stratégies & business model,Toutes nos sessions
ORGANIZER;CN="Centre%20Inffo":MAILTO:inscription.event@centre-inffo.fr
END:VEVENT
END:VCALENDAR