BEGIN:VCALENDAR
VERSION:2.0
PRODID:-//La Boutique en ligne Centre Inffo - ECPv5.1.4//NONSGML v1.0//EN
CALSCALE:GREGORIAN
METHOD:PUBLISH
X-WR-CALNAME:La Boutique en ligne Centre Inffo
X-ORIGINAL-URL:https://boutique.centre-inffo.fr
X-WR-CALDESC:Évènements pour La Boutique en ligne Centre Inffo
BEGIN:VTIMEZONE
TZID:Europe/Paris
BEGIN:DAYLIGHT
TZOFFSETFROM:+0100
TZOFFSETTO:+0200
TZNAME:CEST
DTSTART:20230326T010000
END:DAYLIGHT
BEGIN:STANDARD
TZOFFSETFROM:+0200
TZOFFSETTO:+0100
TZNAME:CET
DTSTART:20231029T010000
END:STANDARD
END:VTIMEZONE
BEGIN:VEVENT
DTSTART;TZID=Europe/Paris:20230412T090000
DTEND;TZID=Europe/Paris:20230414T123000
DTSTAMP:20260425T102453
CREATED:20221109T102412Z
LAST-MODIFIED:20221109T102412Z
UID:355429-1681290000-1681475400@boutique.centre-inffo.fr
SUMMARY:Créer\, gérer et développer son CFA : obligations\, financements\, stratégies partenariales
DESCRIPTION:Téléchargez le programme \nDUREE : 14 heures réparties sur 3 jours\nOBJECTIFS DE FORMATION :\n\nIdentifier les différents types de structuration d’un CFA\nConnaître les obligations d’un CFA et ses missions d’intérêt général\nS’approprier le cadre juridique\, administratif et financier du marché de l’apprentissage\nSécuriser sa stratégie partenariale en matière de certification et de délégation des enseignements\n\n
URL:https://boutique.centre-inffo.fr/evenement/creer-gerer-et-developper-son-cfa-obligations-financements-strategies-partenariales-7/
LOCATION:4 avenue du stade de france\, Saint Denis\, 93210\, France
CATEGORIES:A distance,Apprentissage,Sessions de formation,Toutes nos sessions
ORGANIZER;CN="Centre%20Inffo":MAILTO:inscription.event@centre-inffo.fr
END:VEVENT
BEGIN:VEVENT
DTSTART;TZID=Europe/Paris:20230414T090000
DTEND;TZID=Europe/Paris:20230414T170000
DTSTAMP:20260425T102453
CREATED:20221116T101252Z
LAST-MODIFIED:20221116T101252Z
UID:355501-1681462800-1681491600@boutique.centre-inffo.fr
SUMMARY:Accompagner un candidat à la VAE dans son choix de certification
DESCRIPTION:Téléchargez le programme \nDUREE : 7 heures\, soit 1 jour\nOBJECTIFS DE FORMATION :\n\nPréqualifier la recherche de certification\nMener une recherche par mots-clés\nComprendre le fonctionnement du RNCP pour mieux l’utiliser\nCompléter et affiner l’identification de la certification sur les différents moteurs de recherche\n\nPREREQUIS :\n\nExercer une fonction liée à l’accompagnement VAE ou bien avoir suivi une formation sur le dispositif de VAE\n\n
URL:https://boutique.centre-inffo.fr/evenement/accompagner-un-candidat-a-la-vae-dans-son-choix-de-certification-5/
LOCATION:4 avenue du stade de france\, Saint Denis\, 93210\, France
CATEGORIES:Présentiel,Sessions de formation,Toutes nos sessions,Validation des acquis de l’expérience (VAE)
ORGANIZER;CN="Centre%20Inffo":MAILTO:inscription.event@centre-inffo.fr
END:VEVENT
END:VCALENDAR