BEGIN:VCALENDAR
VERSION:2.0
PRODID:-//La Boutique en ligne Centre Inffo - ECPv5.1.4//NONSGML v1.0//EN
CALSCALE:GREGORIAN
METHOD:PUBLISH
X-WR-CALNAME:La Boutique en ligne Centre Inffo
X-ORIGINAL-URL:https://boutique.centre-inffo.fr
X-WR-CALDESC:Évènements pour La Boutique en ligne Centre Inffo
BEGIN:VTIMEZONE
TZID:Europe/Paris
BEGIN:DAYLIGHT
TZOFFSETFROM:+0100
TZOFFSETTO:+0200
TZNAME:CEST
DTSTART:20230326T010000
END:DAYLIGHT
BEGIN:STANDARD
TZOFFSETFROM:+0200
TZOFFSETTO:+0100
TZNAME:CET
DTSTART:20231029T010000
END:STANDARD
END:VTIMEZONE
BEGIN:VEVENT
DTSTART;TZID=Europe/Paris:20230927T090000
DTEND;TZID=Europe/Paris:20230928T170000
DTSTAMP:20260421T184714
CREATED:20221110T135541Z
LAST-MODIFIED:20221110T135541Z
UID:355566-1695805200-1695920400@boutique.centre-inffo.fr
SUMMARY:Développer les ventes de son organisme de formation grâce au marketing
DESCRIPTION:Téléchargez le programme \nDUREE : 14 heures\, soit 2 jours\nOBJECTIFS DE FORMATION :\n\nDéfinir une offre de service cohérente sur son marché\nSegmenter sa clientèle en tenant compte des opportunités induites par la réforme\nDéfinir ses éléments de différenciation vis-à-vis de la concurrence\nMettre en place des outils de communication et de mesure pour évaluer son efficacité\n\nPREREQUIS :\n\nExercer au sein d’un organisme concourant au développement des compétences\n\n
URL:https://boutique.centre-inffo.fr/evenement/developper-les-ventes-de-son-organisme-de-formation-grace-au-marketing-7/
LOCATION:4 avenue du stade de france\, Saint Denis\, 93210\, France
CATEGORIES:Présentiel,Sessions de formation,Stratégies & business model,Toutes nos sessions
ORGANIZER;CN="Centre%20Inffo":MAILTO:inscription.event@centre-inffo.fr
END:VEVENT
BEGIN:VEVENT
DTSTART;TZID=Europe/Paris:20230927T140000
DTEND;TZID=Europe/Paris:20230929T173000
DTSTAMP:20260421T184714
CREATED:20221109T101145Z
LAST-MODIFIED:20221109T101145Z
UID:355539-1695823200-1696008600@boutique.centre-inffo.fr
SUMMARY:Cartographier la nouvelle ingénierie financière en formation
DESCRIPTION:Téléchargez le programme \nDUREE : 14 heures\, réparties sur 3 jours\nOBJECTIFS DE FORMATION :\n\nIdentifier les sources de financement de la formation professionnelle\nQualifier un projet de formation en vue de trouver le bon financement\nSavoir chiffrer un projet de formation en tenant compte des contraintes des financeurs\n\n
URL:https://boutique.centre-inffo.fr/evenement/cartographier-la-nouvelle-ingenierie-financiere-en-formation-21/
LOCATION:4 avenue du stade de france\, Saint Denis\, 93210\, France
CATEGORIES:A distance,Ingénierie financière,Sessions de formation,Toutes nos sessions
ORGANIZER;CN="Centre%20Inffo":MAILTO:inscription.event@centre-inffo.fr
END:VEVENT
END:VCALENDAR